BEGIN:VCALENDAR
VERSION:2.0
PRODID:-//Dark Hollow Biodynamic - ECPv6.10.3//NONSGML v1.0//EN
CALSCALE:GREGORIAN
METHOD:PUBLISH
X-WR-CALNAME:Dark Hollow Biodynamic
X-ORIGINAL-URL:https://darkhollowbiodynamic.com
X-WR-CALDESC:Events for Dark Hollow Biodynamic
REFRESH-INTERVAL;VALUE=DURATION:PT1H
X-Robots-Tag:noindex
X-PUBLISHED-TTL:PT1H
BEGIN:VTIMEZONE
TZID:America/New_York
BEGIN:DAYLIGHT
TZOFFSETFROM:-0500
TZOFFSETTO:-0400
TZNAME:EDT
DTSTART:20240310T070000
END:DAYLIGHT
BEGIN:STANDARD
TZOFFSETFROM:-0400
TZOFFSETTO:-0500
TZNAME:EST
DTSTART:20241103T060000
END:STANDARD
END:VTIMEZONE
BEGIN:VEVENT
DTSTART;TZID=America/New_York:20240420T110000
DTEND;TZID=America/New_York:20240420T170000
DTSTAMP:20260423T063129
CREATED:20240223T125723Z
LAST-MODIFIED:20240223T130436Z
UID:1867-1713610800-1713632400@darkhollowbiodynamic.com
SUMMARY:Regenerative Field & Forest Management - Volunteer Day
DESCRIPTION:Need a regenerative farm fix? Come to our afternoon of volunteering with food and snacks provided where we will be: \n\nIdentifying and removing some non-native plants\nPlanting native perennial trees and shrubs to fill those niches\nBuilding hillside check dams and wildlife stacks from natural materials\nStructuring and reinforcing hillside trails\nMeet and interact with our very pregnant Icelandic sheep!\n\nYour help is much appreciated AND you have the opportunity to learn a lot from your experience. \nRSVP via facebook events HERE.
URL:https://darkhollowbiodynamic.com/event/field-forest-management-volunteer-day/
LOCATION:Dark Hollow Biodynamic\, 6924 Dark Hollow Road\, Wrightsville\, PA\, 17368\, United States
CATEGORIES:Farm Volunteer Days
ATTACH;FMTTYPE=image/jpeg:https://darkhollowbiodynamic.com/wp-content/uploads/2024/02/forestCleanup02.jpeg
END:VEVENT
BEGIN:VEVENT
DTSTART;TZID=America/New_York:20240427T110000
DTEND;TZID=America/New_York:20240427T160000
DTSTAMP:20260423T063129
CREATED:20240312T173859Z
LAST-MODIFIED:20240312T174110Z
UID:1934-1714215600-1714233600@darkhollowbiodynamic.com
SUMMARY:Fantastic Fungi & Friends
DESCRIPTION:Dark Hollow Biodynamic will be joining this year’s Fantastic Fungi & Friends at Virtue Local Art Market.  Joining us will be forager and photographer Sarah Letourneau of @forest_apsara instagram page bringing specimens of seasonal foraged fungi and showcasing her photography of mushrooms across the Eastern Seaboard. \nDark Hollow Biodynamic will be selling native elderberry cuttings\, biodynamic preparations and calendars and milk keffir (it’s a fungus!) with the possibility of some dried or fresh Shiitake depending on the harvest at that time. \nWe’ll also have some hands on experience for the young ones in terms of how we seed logs for mushroom growing. Don’t miss it! There is lots more going on from many local organizations and artists and that information can be found on the event page!
URL:https://darkhollowbiodynamic.com/event/fantastic-fungi-friends/
LOCATION:Virtue Local Art Market\, 481 E Market St\, Hallam\, PA\, 17406\, United States
CATEGORIES:Events & Vending
ATTACH;FMTTYPE=image/jpeg:https://darkhollowbiodynamic.com/wp-content/uploads/2024/03/v1.jpg
END:VEVENT
END:VCALENDAR