BEGIN:VCALENDAR
VERSION:2.0
PRODID:-//Dark Hollow Biodynamic - ECPv6.10.3//NONSGML v1.0//EN
CALSCALE:GREGORIAN
METHOD:PUBLISH
X-WR-CALNAME:Dark Hollow Biodynamic
X-ORIGINAL-URL:https://darkhollowbiodynamic.com
X-WR-CALDESC:Events for Dark Hollow Biodynamic
REFRESH-INTERVAL;VALUE=DURATION:PT1H
X-Robots-Tag:noindex
X-PUBLISHED-TTL:PT1H
BEGIN:VTIMEZONE
TZID:America/New_York
BEGIN:DAYLIGHT
TZOFFSETFROM:-0500
TZOFFSETTO:-0400
TZNAME:EDT
DTSTART:20240310T070000
END:DAYLIGHT
BEGIN:STANDARD
TZOFFSETFROM:-0400
TZOFFSETTO:-0500
TZNAME:EST
DTSTART:20241103T060000
END:STANDARD
BEGIN:DAYLIGHT
TZOFFSETFROM:-0500
TZOFFSETTO:-0400
TZNAME:EDT
DTSTART:20250309T070000
END:DAYLIGHT
BEGIN:STANDARD
TZOFFSETFROM:-0400
TZOFFSETTO:-0500
TZNAME:EST
DTSTART:20251102T060000
END:STANDARD
END:VTIMEZONE
BEGIN:VEVENT
DTSTART;TZID=America/New_York:20240427T110000
DTEND;TZID=America/New_York:20240427T160000
DTSTAMP:20260421T213941
CREATED:20240312T173859Z
LAST-MODIFIED:20240312T174110Z
UID:1934-1714215600-1714233600@darkhollowbiodynamic.com
SUMMARY:Fantastic Fungi & Friends
DESCRIPTION:Dark Hollow Biodynamic will be joining this year’s Fantastic Fungi & Friends at Virtue Local Art Market.  Joining us will be forager and photographer Sarah Letourneau of @forest_apsara instagram page bringing specimens of seasonal foraged fungi and showcasing her photography of mushrooms across the Eastern Seaboard. \nDark Hollow Biodynamic will be selling native elderberry cuttings\, biodynamic preparations and calendars and milk keffir (it’s a fungus!) with the possibility of some dried or fresh Shiitake depending on the harvest at that time. \nWe’ll also have some hands on experience for the young ones in terms of how we seed logs for mushroom growing. Don’t miss it! There is lots more going on from many local organizations and artists and that information can be found on the event page!
URL:https://darkhollowbiodynamic.com/event/fantastic-fungi-friends/
LOCATION:Virtue Local Art Market\, 481 E Market St\, Hallam\, PA\, 17406\, United States
CATEGORIES:Events & Vending
ATTACH;FMTTYPE=image/jpeg:https://darkhollowbiodynamic.com/wp-content/uploads/2024/03/v1.jpg
END:VEVENT
BEGIN:VEVENT
DTSTART;VALUE=DATE:20240624
DTEND;VALUE=DATE:20240625
DTSTAMP:20260421T213941
CREATED:20231221T170602Z
LAST-MODIFIED:20231221T170602Z
UID:1797-1719187200-1719273599@darkhollowbiodynamic.com
SUMMARY:St. John's Day
DESCRIPTION:St. John’s festival celebrates the the human being who stands at a threshold between an older consciousness (Biblically the era of prophets of which St. John was the last) and the new consciousness\, a conscioussness imbued with the Holy Spirit within the human being. \nSt John’s message and words had an inner fire of spiritual connection that kindles enthusiasm in people to break through barriers and change their own inner life.
URL:https://darkhollowbiodynamic.com/event/st-johns-day/
LOCATION:PA
CATEGORIES:Festivals and Holidays
ATTACH;FMTTYPE=image/jpeg:https://darkhollowbiodynamic.com/wp-content/uploads/2023/12/st-johns.jpeg
END:VEVENT
BEGIN:VEVENT
DTSTART;TZID=America/New_York:20240810T140000
DTEND;TZID=America/New_York:20240810T170000
DTSTAMP:20260421T213941
CREATED:20240223T123755Z
LAST-MODIFIED:20240715T181327Z
UID:1859-1723298400-1723309200@darkhollowbiodynamic.com
SUMMARY:Foraged and Native Cocktail Hour\, Native Plant ID Walk & BD Farm Tour
DESCRIPTION:This special fundraiser raises money for the amazing program at the Susquehanna Waldorf School in Marietta\, PA.  The first set of tickets will be at a benefit auction March 2nd.  Additional tickets will be offered afterward\, based on availability\, with proceeds going to this beautiful school across the river from us! \nFind out more about the Susquehanna Waldorf School HERE. \nOur Plant Walk will be conducted by Jonathan Darby! Jonathan has been foraging for more than 20 years\, leading classes since 2010\, and was raised in the back alleys of Red Lion and on the banks of the Susquehanna River. Jonathan is the owner/operator of the Wallicks Farm Project\, Riverbend Foraging\, and co-owner of Riverbend Comics. Jonathan is a farmer\, wild foods enthusiast\, and educator. He is a certified permaculture designer and teacher and has served on the Board of Directors for the Horn Farm Center for Agricultural Education.
URL:https://darkhollowbiodynamic.com/event/foraged-and-native-cocktail-hour-native-plant-id-walk-bd-farm-tour/
LOCATION:Dark Hollow Biodynamic\, 6924 Dark Hollow Road\, Wrightsville\, PA\, 17368\, United States
CATEGORIES:Classes & Workshops
ATTACH;FMTTYPE=image/jpeg:https://darkhollowbiodynamic.com/wp-content/uploads/2024/02/foraging-walk-and-cocktail-hour-fancy.jpg
END:VEVENT
BEGIN:VEVENT
DTSTART;VALUE=DATE:20240928
DTEND;VALUE=DATE:20240930
DTSTAMP:20260421T213941
CREATED:20240711T205348Z
LAST-MODIFIED:20240907T163823Z
UID:2117-1727481600-1727654399@darkhollowbiodynamic.com
SUMMARY:Wild & Uncommon Satellite Event - Biodynamic Farm Tour
DESCRIPTION:For Full Wild & Uncommon (formerly the Paw Paw Festival) info\, visit the FESTIVAL WEBSITE. \nTickets available for the following eight sessions: \n\nSaturday\, September 28\, 11am (click to purchase tickets)\nSaturday\, September 28\, 2pm (click to purchase tickets)\nSaturday\, September 28\, 4pm (click to purchase tickets)\nSunday\, September 29\, 11am (click to purchase tickets)\nSunday\, September 29\, 2pm (click to purchase tickets)\nSunday\, September 29\, 4pm (click to purchase tickets)\n\n**Please note that all guests will be required to sign a special activities waiver. \nJoin us at Dark Hollow Biodynamic and immerse yourself in a one-hour walking farm tour that showcases our “wild and uncommon” approach to agriculture. \nEvent Highlights:\nBiodynamic Practices: Discover the principles and practices that define biodynamic farming. Learn how we nurture the land using methods that promote ecological balance and sustainability. \nIcelandic Sheep: Meet our herd of wild and uncommon Icelandic sheep. Understand their role in our farming ecosystem and why these hardy animals are perfect for our forest/land management and biodynamic practices. \nForest-Grown Delicacies: Explore our forest-grown fruits\, mushrooms\, and medicinal plants. See firsthand how we cultivate these natural treasures in harmony with the surrounding woodland. Pennsylvania wild paw paw and other forest grown goods may be available for tasting and purchase. \nBiodynamic Agriculture Insight: Gain valuable insights into biodynamic agriculture from one of Central PA’s burgeoning biodynamic farms. Understand how this approach differs from conventional farming and its benefits to the environment and human health. \nThis event also coincides with the Michaelmas festival\, a significant celebration for anthroposophists and biodynamic practitioners worldwide. Michaelmas marks a time of inner strength and courage\, themes that resonate deeply with our farming philosophy. \nCome celebrate the wild and uncommon with us and leave inspired by the potential of biodynamic farming to heal and rejuvenate our planet. Whether you’re a seasoned farmer\, a curious gardener\, or someone interested in sustainable living\, this event promises to offer valuable knowledge and inspiration. \nWe look forward to welcoming you to Dark Hollow Biodynamic for a day of learning\, celebration\, and connection with nature.
URL:https://darkhollowbiodynamic.com/event/wild-uncommon-satellite-event-biodynamic-farm-tour/
LOCATION:Dark Hollow Biodynamic\, 6924 Dark Hollow Road\, Wrightsville\, PA\, 17368\, United States
ATTACH;FMTTYPE=image/png:https://darkhollowbiodynamic.com/wp-content/uploads/2024/07/Screenshot-2024-07-11-at-2.08.53 PM.png
END:VEVENT
BEGIN:VEVENT
DTSTART;TZID=America/New_York:20241208T110000
DTEND;TZID=America/New_York:20241208T160000
DTSTAMP:20260421T213941
CREATED:20241118T214947Z
LAST-MODIFIED:20241118T215102Z
UID:2149-1733655600-1733673600@darkhollowbiodynamic.com
SUMMARY:Vending at Winter Faire\, Susquehanna Waldorf School
DESCRIPTION:As part of our ongoing support of our children’s school\, The Susquehanna Waldorf School\, our family will have a booth vending biodynamic preparations\, gardening calendars\, felting wool and more!  Please join us!
URL:https://darkhollowbiodynamic.com/event/vending-at-winter-faire-susquehanna-waldorf-school/
LOCATION:Susquehanna Waldorf School\, 15 West Walnut Street\, Marietta\, PA\, 17547\, United States
ATTACH;FMTTYPE=image/jpeg:https://darkhollowbiodynamic.com/wp-content/uploads/2024/11/407209692_18299228320127636_860124421948263321_n.jpg
END:VEVENT
BEGIN:VEVENT
DTSTART;TZID=America/New_York:20250426T110000
DTEND;TZID=America/New_York:20250426T140000
DTSTAMP:20260421T213941
CREATED:20250110T194503Z
LAST-MODIFIED:20250402T145109Z
UID:2208-1745665200-1745676000@darkhollowbiodynamic.com
SUMMARY:Learn the Art of Grafting with Zach Elfers at Dark Hollow Biodynamic!
DESCRIPTION:CLICK HERE TO GET YOUR TICKET!\nHave you ever dreamed of creating your own fruiting trees or perfecting your grafting skills? This is your chance to learn from an expert in a stunning agroforestry setting! Join us for an immersive Grafting Workshop led by Zach Elfers\, tree crops enthusiast\, small nursery operator\, and lifelong student of nature. \nAbout the Workshop:\nIn this hands-on\, three-hour session\, you’ll learn the art and science of grafting while creating your own grafted tree to take home. Zach will guide you through: \n\nBenefits of grafting\nSelection of grafting stock and scion wood\nKnife Safety and Techniques\nFocus on Bench Grafting while also covering Top Working and Budding\nHands-on practice with expert feedback\n\nWhether you’re a curious beginner or an aspiring orchardist\, this workshop is designed to provide practical skills you can use right away. \nReserve Your Spot Today!\nSpaces are limited\, and this is a unique opportunity to learn from Zach Elfers in an inspiring location. Don’t miss out on this chance to deepen your connection with nature and your skills in tree grafting. \nCLICK HERE TO GET YOUR TICKET!
URL:https://darkhollowbiodynamic.com/event/learn-the-art-of-grafting-with-zach-elfers-at-dark-hollow-biodynamic/
LOCATION:Dark Hollow Biodynamic\, 6924 Dark Hollow Road\, Wrightsville\, PA\, 17368\, United States
END:VEVENT
BEGIN:VEVENT
DTSTART;TZID=America/New_York:20250621T100000
DTEND;TZID=America/New_York:20250621T140000
DTSTAMP:20260421T213941
CREATED:20250521T175958Z
LAST-MODIFIED:20250521T175958Z
UID:2225-1750500000-1750514400@darkhollowbiodynamic.com
SUMMARY:Summer Solstice Market
DESCRIPTION:Here’s a rewritten version of the Summer Solstice Market event page from the vendor perspective of Dark Hollow Biodynamic. The voice is adapted to feel warm\, earthy\, and rooted in Dark Hollow’s biodynamic ethos\, while celebrating the community and shared values of the market: \n\n🌞 Join Us at the Summer Solstice Market\nSaturday\, June 21st\, 2025 | 10AM–2PM\nHorn Farm Center\, York County\, PA \nAt Dark Hollow Biodynamic\, we believe in marking the rhythms of nature—and the Summer Solstice is one of our favorite times of year. The longest day\, the peak of sunlight\, and a celebration of the abundance that this season brings. We’re thrilled to be part of this year’s Summer Solstice Market at the beautiful Horn Farm Center. \nThis isn’t just a market—it’s a joyful gathering of earth-minded people\, from growers and makers to teachers and neighbors. Come walk the land\, meet your local farmers\, fill your basket with the region’s seasonal treasures\, and reconnect with what it means to live in rhythm with the earth. \n\n🌿 What to Expect\nWe’ll be there with our full hearts and hands—sharing the biodynamic preparations\, plants\, and compost that ground our farm’s work. But beyond our table\, here’s what the day holds: \n\nOrganic produce grown by this year’s Regenerative Grower Training Program cohort at Horn Farm.\nAnnual and perennial plants and starts—perfect for your own backyard harvests.\nA curated lineup of sustainable local vendors (like us!) offering meaningful\, land-based goods.\nFree educational tours of the farm’s agroforestry projects\, food forests\, pollinator gardens\, and more.\nYouth activities designed to inspire the next generation of land stewards.\nDelicious food from Locally Seasoned and space for picnicking—bring your own blanket and join the community vibe.\n\n\n🛒 Local Vendors You’ll Meet\nThe Horn Farm Summer Solstice Market is about uplifting the local ecosystem—and that means people too. We’re proud to be part of a stellar vendor lineup that includes: \n\nKeystone Tree Crops Cooperative – committed to perennial agriculture and regenerative tree crops.\nDark Hollow Biodynamic – that’s us! We’ll be offering our biodynamic compost\, herbal teas\, and plant starts to infuse your garden and life with vitality.\nLocally Seasoned – bringing the flavor with fresh\, thoughtfully-prepared eats.\n\n\n🌻 Why This Matters\nAs growers\, we don’t just farm—we listen to the land. Horn Farm is doing incredible work blending ecological restoration with food production\, and the Summer Solstice Market is a living example of what that balance can look like. \nWe invite you to walk the fields\, talk with the growers\, and experience what regenerative land care really feels like. Whether you’re an old friend or new face\, we’d love for you to stop by our table\, share stories\, and see what’s growing this season. \n\n🌞 Let’s Celebrate Together\nMark your calendars and come spend the longest day of the year with us.\nThe light lasts longer\, and so will the feeling of connection. \nSaturday\, June 21st\, 2025\n10AM to 2PM\nHorn Farm Center\n4945 Horn Rd\, York\, PA 17406
URL:https://darkhollowbiodynamic.com/event/summer-solstice-market/
LOCATION:Horn Farm Center for Agricultural Education\, 4945 Horn Rd\, York\, PA 17406\, York\, PA\, 17406\, United States
ATTACH;FMTTYPE=image/webp:https://darkhollowbiodynamic.com/wp-content/uploads/2025/05/Images_May-June-2025_800x80021_8db55e39-a307-4e50-a492-179fd7556453_2048x.webp
END:VEVENT
BEGIN:VEVENT
DTSTART;VALUE=DATE:20250929
DTEND;VALUE=DATE:20250930
DTSTAMP:20260421T213941
CREATED:20231221T165941Z
LAST-MODIFIED:20250921T174449Z
UID:1793-1759104000-1759190399@darkhollowbiodynamic.com
SUMMARY:Michaelmas
DESCRIPTION:A treasured fall tradition in many Waldorf schools and Anthroposophical circles as well as some European Christians\, Michaelmas is an ancient festival whose central message remains relevant across the centuries. It speaks to us of human potential\, of fear\, of courage in the face of fear\, and of the possibility for transformation. \nIn Biodynamics\, Michaelmas is the signal that life forces will begin to go deep into the Earth. It is the time when we typically make time to dig up horn silica and bury horn manure.
URL:https://darkhollowbiodynamic.com/event/michaelmas/
LOCATION:PA
CATEGORIES:Festivals and Holidays
ATTACH;FMTTYPE=image/jpeg:https://darkhollowbiodynamic.com/wp-content/uploads/2023/12/michaelmas.jpg
END:VEVENT
BEGIN:VEVENT
DTSTART;TZID=America/New_York:20251019T100000
DTEND;TZID=America/New_York:20251019T143000
DTSTAMP:20260421T213941
CREATED:20250320T140924Z
LAST-MODIFIED:20250929T220220Z
UID:2217-1760868000-1760884200@darkhollowbiodynamic.com
SUMMARY:Wild & Cultivated: Find\, Taste & Grow Your Own Mushrooms
DESCRIPTION:Join Biodynamic Farmer Allen Clements and Mycological Forager & Photographer Sarah LeTourneau at Horn Farm Center for an immersive mushroom experience! Embark on a guided foraging walk to identify wild mushrooms\, savor a tasting of delicious culinary varieties\, and learn multiple hands-on methods for growing your own mushrooms at home. Whether you’re a curious beginner or a budding fungi enthusiast\, this class will deepen your appreciation for the hidden world of mushrooms and their role in nature and cuisine. 🌿🍄✨ \nGet Tickets Here!
URL:https://darkhollowbiodynamic.com/event/wild-cultivated-find-taste-grow-your-own-mushrooms/
LOCATION:Horn Farm Center for Agricultural Education\, 4945 Horn Rd\, York\, PA 17406\, York\, PA\, 17406\, United States
ATTACH;FMTTYPE=image/jpeg:https://darkhollowbiodynamic.com/wp-content/uploads/2025/03/IMG_0129_result-scaled.jpg
ORGANIZER;CN="Allen Clements":MAILTO:allen@darkhollowbiodynamic.com
END:VEVENT
BEGIN:VEVENT
DTSTART;TZID=America/New_York:20251207T110000
DTEND;TZID=America/New_York:20251207T150000
DTSTAMP:20260421T213941
CREATED:20250921T151748Z
LAST-MODIFIED:20250921T151748Z
UID:2231-1765105200-1765119600@darkhollowbiodynamic.com
SUMMARY:Susquehanna Waldorf School Winter Faire!
DESCRIPTION:🌲 Join Us at the Waldorf Winter Faire! 🌲 \nWe at Dark Hollow Biodynamic are delighted to be part of this year’s Waldorf Winter Faire! This beautiful tradition is the perfect place to discover meaningful\, natural gifts for the holiday season. \nAt our table\, you’ll find our biodynamic honey\, hand-crafted teas\, and spices—including our ground spicebush berry\, gumbo filé\, and a new limited-availability shawarma seasoning. For the gardeners in your life\, we’ll also have the newest Celestial (Biodynamic) Calendar\, along with books and photographs that celebrate natural and holistic gardening. \nWe believe holiday giving can be more than just gifts—it can be a way to share health\, warmth\, and connection with the land. We warmly invite you to stop by\, support local\, and take home something grown and crafted with care while supporting a beautiful school in your area.
URL:https://darkhollowbiodynamic.com/event/susquehanna-waldorf-school-winter-faire/
LOCATION:Susquehanna Waldorf School\, 15 West Walnut Street\, Marietta\, PA\, 17547\, United States
CATEGORIES:Events & Vending
ATTACH;FMTTYPE=image/jpeg:https://darkhollowbiodynamic.com/wp-content/uploads/2025/09/543666906_17989839329838620_934740751728484636_n.jpg
END:VEVENT
END:VCALENDAR